0.00000316020080
0.00000000000000
0.00000000000000
-0.00000274958540
-93.81249847292240
30.15624970214160
