0.00000316000140
0.00000000000000
0.00000000000000
-0.00000274958770
-93.37500058909400
30.18750010093540
