0.00000316000140
0.00000000000000
0.00000000000000
-0.00000274958770
-93.18749874602361
30.15625103672490
