0.00000316000140
0.00000000000000
0.00000000000000
-0.00000274958770
-93.09375091917680
30.21874967554700
