0.00000316000140
0.00000000000000
0.00000000000000
-0.00000274958770
-93.06249850533079
30.24999873975750
