0.00000316020080
0.00000000000000
0.00000000000000
-0.00000274958540
-93.93750021556639
30.12500056124980
