0.00000316020080
0.00000000000000
0.00000000000000
-0.00000274958540
-93.96874917548240
30.12500112509060
