0.00000316020080
0.00000000000000
0.00000000000000
-0.00000274958540
-93.71875111619039
30.06249973552240
