0.00000316020080
0.00000000000000
0.00000000000000
-0.00000274958540
-93.59374911675280
30.03125074554120
