0.00000316020080
0.00000000000000
0.00000000000000
-0.00000274958540
-93.62500059925759
30.03125069745140
