0.00000316020080
0.00000000000000
0.00000000000000
-0.00000274958540
-93.56250130803599
30.06249983834320
