0.00000316000140
0.00000000000000
0.00000000000000
-0.00000274958770
-93.31249892140340
30.12499922292670
