0.00000316000140
0.00000000000000
0.00000000000000
-0.00000274958770
-93.25000041371420
30.06250109450570
