0.00000316000140
0.00000000000000
0.00000000000000
-0.00000274958770
-93.15624949217900
30.12499922292670
