0.00000315522120
0.00000000000000
0.00000000000000
-0.00000274965070
-94.71875033921160
29.96875038456300
