0.00000315522120
0.00000000000000
0.00000000000000
-0.00000274965070
-94.62499925169600
29.90625082415200
