0.00000315522120
0.00000000000000
0.00000000000000
-0.00000274965070
-94.53125131940159
29.93750060435750
