0.00000315522120
0.00000000000000
0.00000000000000
-0.00000274965070
-94.18749875232480
29.90625089286530
