0.00000315522120
0.00000000000000
0.00000000000000
-0.00000274965070
-94.21875132748359
29.96875002193670
