0.00000316020080
0.00000000000000
0.00000000000000
-0.00000274958540
-94.15624931494240
29.99999901261580
