0.00000315522120
0.00000000000000
0.00000000000000
-0.00000274965070
-94.18749875232480
30.00000023348180
