0.00000316020080
0.00000000000000
0.00000000000000
-0.00000274958540
-94.09375002372080
29.99999901261580
