0.00000315522120
0.00000000000000
0.00000000000000
-0.00000274965070
-94.65624856246079
29.78124895367930
