0.00000315522120
0.00000000000000
0.00000000000000
-0.00000274965070
-94.68750102844679
29.81249873388480
