0.00000315522120
0.00000000000000
0.00000000000000
-0.00000274965070
-94.56250063016640
29.87500104394650
