0.00000315522120
0.00000000000000
0.00000000000000
-0.00000274965070
-94.46874896882319
29.78125134070370
