0.00000316020080
0.00000000000000
0.00000000000000
-0.00000274958540
-94.06249969241520
29.84374878411000
