0.00000315522120
0.00000000000000
0.00000000000000
-0.00000274965070
-94.78124896074119
29.65624983285730
