0.00000315522120
0.00000000000000
0.00000000000000
-0.00000274965070
-94.50000142792959
29.68749901810610
