0.00000315522120
0.00000000000000
0.00000000000000
-0.00000274965070
-94.59374994093119
29.59375027244630
