0.00000315522120
0.00000000000000
0.00000000000000
-0.00000274965070
-94.31249915060521
29.59375034115960
