0.00000315522120
0.00000000000000
0.00000000000000
-0.00000274965070
-94.25000052907561
29.62500012136510
