0.00000315000000
0.00000000000000
0.00000000000000
-0.00000275000000
-90.09375154500000
29.31250024500000
