0.00000315000000
0.00000000000000
0.00000000000000
-0.00000275000000
-90.15625069500000
29.18749899500000
