0.00000315000000
0.00000000000000
0.00000000000000
-0.00000275000000
-90.12499954499999
29.25000099500000
