0.00000315000000
0.00000000000000
0.00000000000000
-0.00000275000000
-89.71875034500000
29.50000074500000
