0.00000315000000
0.00000000000000
0.00000000000000
-0.00000275000000
-89.49999859499999
29.46874974500000
