0.00000315000000
0.00000000000000
0.00000000000000
-0.00000275000000
-89.84374864500001
29.34375124500000
