0.00000315000000
0.00000000000000
0.00000000000000
-0.00000275000000
-89.31250114500000
29.28124924500000
