0.00000315000000
0.00000000000000
0.00000000000000
-0.00000275000000
-90.00000124500001
29.25000099500000
