0.00000315000000
0.00000000000000
0.00000000000000
-0.00000275000000
-89.12500054500001
29.21874999500000
