0.00000315000000
0.00000000000000
0.00000000000000
-0.00000275000000
-89.28124999500000
29.06250049500000
