0.00000315000000
0.00000000000000
0.00000000000000
-0.00000275000000
-89.21875084500000
29.09374874500000
