0.00000315000000
0.00000000000000
0.00000000000000
-0.00000275000000
-89.03125024500000
29.12499974500000
