<?xml version="1.0" encoding="ISO-8859-1"?>
<!DOCTYPE metadata SYSTEM "http://www.fgdc.gov/metadata/fgdc-std-001-1998.dtd">
<metadata>
	<idinfo>
		<citation>
			<citeinfo>
				<origin>Photo Science, Inc.</origin>
				<pubdate>2006</pubdate>
				<geoform>remote-sensing image</geoform>
				<pubinfo>
					<pubplace>Lafayette, LA</pubplace>
					<publish>U.S. Geological Survey, National Wetlands Research Center</publish>
					<title>Redfish Point NE, LA USGS DOQQ</title>
				</pubinfo>
			</citeinfo>
		</citation>
		<descript>
			<abstract>Wetlands restoration efforts conducted by the Coastal Wetlands Planning, Protection, and Restoration Act (CWPPRA) in Louisiana use monitoring techniques to determine the effectiveness of these efforts. The Coastwide Reference Monitoring System (CRMS) is being developed to assist in a multiple reference approach that uses aspects of hydrogeomorphic functional assessments and probabilistic sampling for monitoring. As part of CRMS, digital orthophoto quarter quadrangles (DOQQs) for the coastal region of Louisiana were created. A DOQQ is a raster image in which displacement in the image caused by sensor orientation and terrain relief has been removed and combines the image characteristics of a photo with geometric qualities of a map. The DOQQs generated for this project were created using digital mapping camera (DMC) technology. This technology allows for the creation of four components: color infrared (CIR) digital imagery (non-georeferenced pan 1 meter and non-georeferenced CIR), aerotriangulation solution for stereo creation, stereo pair generation (4.75 meter stereo images), and CIR digital orthophotography (1 meter CIR DOQQs).</abstract>
			<purpose>These DOQQs were created for the CWPPRA Task Force as part of Coastwide Reference Monitoring System (CRMS). These data depicts geographic features on the surface of the earth.  DOQQs serve a variety of purposes, from interim base maps to field references for earth science investigations and analysis.  For the CRMS project, the DOQQs will b used to map coastal wetlands for the CWPPRA monitoring program activities.</purpose>
			<supplinf>This dataset was produced in accordance with USGS Standards for Digital Orthophotos, 1996 12.  Review and oversight was provided by Mid-Continent Mapping Center (MCMC).</supplinf>
		</descript>
		<timeperd>
			<timeinfo>
				<rngdates><begdate>20051015</begdate><enddate>20051118</enddate></rngdates></timeinfo>
			<current>ground condition</current>
		</timeperd>
		<status>
			<progress>Complete</progress>
			<update>As necessary.</update>
		</status>
		<spdom>
			<bounding>
				<westbc>-92.0513</westbc>
				<eastbc>-92.0000</eastbc>
				<northbc>29.7500</northbc>
				<southbc>29.6875</southbc>
			</bounding>
		</spdom>
		<keywords>
			<theme>
				<themekt>None</themekt>
				<themekey>DOQ</themekey>
				<themekey>digital orthophoto</themekey>
				<themekey>digital orthophotoquad</themekey>
				<themekey>aerial photograph</themekey>
				<themekey>rectified photograph</themekey>
				<themekey>orthophoto</themekey>
				<themekey>quarter-quadrangle orthophoto</themekey>
				<themekey>1-meter orthophot</themekey>
				<themekey>3.75- x 3.75 minute orthophoto</themekey>
				<themekey>CIR DOQQ</themekey>
				<themekey>CIR Orthophoto</themekey>
				<themekey>4.75 meter stereo imagery</themekey>
			        <themekey>digital mapping camera</themekey>
				<themekey>mapping</themekey>
				<themekey>wetlands</themekey>
			</theme>
			<place>
				<placekt>U.S. Department of Commerce, 1995, Countries, dependencies, areas of special sovereignty, and their principal administrative divisions, Federal Information Processing Standard (FIPS) 10-4): Washington, D.C., National Institute of Standards and Technology.</placekt>
				<placekey>US</placekey>
			</place>
			<place>
				<placekt>U.S. Department of Commerce, 1987, Codes for the Identification of the States, the District of Columbia and the outlying areas of the United States, and associated areas (Federal Information Processing Standard (FIPS) 5-2): Washington, D.C., National Institute of Standards and Technology.</placekt>
				<placekey>LA</placekey>
			</place>
			<place>
				<placekt>U.S. Geological Survey and U.S. Board of Geographic Names, 1981, Geographic Names Information System (GNIS): Reston, VA., U.S. Geological Survey</placekt>
				<placekey>Redfish Point</placekey>
			</place>
		</keywords>
		<accconst>Any downloading and use of these data signifies a user's agreement to comprehension and compliance of the NWRC Standard Disclaimer.  Insure all portions of metadata are read and clearly understood before using these data in order to protect both user and NWRC interests.  See section 6.3 Distribution Liability.</accconst>
    		<useconst>Acknowledgement of the USGS National Wetlands Research Center, CWPPRA Task Force and LA Department of Environmental Quality as a data source would be appreciated in products developed from these data, and such acknowledgment as is standard for citation and legal practices for data source is expected by users of this data.  Sharing new data layers developed directly from these data would also be appreciated by NWRC staff.  Users should be aware that comparison with other data sets for the same area from other time periods may be inaccurate due to inconsistencies resulting from changes in photo-interpretation and mapping conventions over time.  Users should be aware that temporal changes may have occurred since this data set was collected and that some parts of this data may no longer represent actual surface conditions.  Users should not use this data for critical applications without a full awareness of it's limitations.  
    			These data are not legal documents and are not to be used as such.</useconst>
    		<datacred>Produced by Photo Science, Inc for the U.S. Geological Survey, National Wetlands Research Center.  The following partners provided funding or services for the collection and production of these data: 
  			The Coastal Wetlands Planning, Protection, and Restoration Act (CWPPRA) Task Force,  
  			the Louisiana Department of Environmental Quality,  
  			U.S. Army Corps of Engineers (New Orleans District),  
  			USDA, Natural Resources Conservation Service (Resource Inventory Division),  
  			USDA Forest Service,  
  			and the  U.S. Fish and Wildlife Service (Louisiana)</datacred>
		<native>Intergraph OrthoPro; Windows XP operating system</native>
	</idinfo>
	<dataqual>
		<attraccr>Imagery was captured using a Z/I DMC Sensor.  Attribute data consists of 24-bit RGB.  Valid values for each color band range from 0 to 255.  CIR data was sharpen with panchromatic data to produce the final 1.0-meter product.  Image brightness values may deviate from the brightness values of the original images because of image value interpolation during the scanning and rectification processes as well as histogram modifications made to produce tonal-balanced imagery.  Radiometric differences may exist between adjacent orthoimage files; these are due primarily to differences in source image capture dates and sun angles along flight lines. These differences can be observed in an image's general lightness or darkness when it is compared to adjacent orthoimage file coverages.</attraccr>
		<logic>All DOQQ header data and image file sizes are validated using USGS software before being archived.  This validation process ensures correct physical format and field values for header elements.  Logical relationships between header elements are tested.  Overlap regions between individual DOQQs are visually inspected for excessive horizontal displacement.</logic>
		<complete>The area of coverage for a standard USGS digital quarterquadrangle is 3.75 minutes of latitude by 3.75 minutes of longitude plus 300 meters overedge.  DOQQ images are visually inspected for completeness to ensure that no gaps or image misplacements exist in the 3.75' image area or in overedge coverage. DOQQ images can be derived by mosaicking multiple images to ensure complete coverage. DOQQ's are cloud free within the 3.75' image area. Some clouds may, very infrequently, appear in the overedge coverage. National Aerial Photography Program (NAPP) source photography is leaf-off in deciduous vegetation regions. Coastal areas and international boundary regions may have areas without images (void areas) in parts of the 3.75' coverage. Slivers of void areas in the outside edges of a DOQ* may result also from image transformation from other planimetric systems to the Universal Transverse Mercator (UTM). These void areas have a radiometric value of either zero (black) or 255 (white). </complete>
		<posacc>
			<horizpa>
				<horizpar>The DOQQ horizontal positional accuracy and the assurance of that accuracy depend, in part, on the accuracy of the data inputs to the rectification process. These inputs consist of the digital elevation model (DEM), aerotriangulation control and methods, sensor calibration, and aerial imagery that meet National Aerial Photography Program (NAPP)  standards. The vertical accuracy of the verified USGS format DEM is equivalent to or better than a USGS level 1 or 2 DEM, with a root mean square error (RMSE) of no greater than 7.0 meters. Field control is acquired by third-order class 1 or better survey methods sufficiently spaced to meet National Map Accuracy Standards (NMAS) for 1:12,000-scale products.
					Photo-identifiable ground test points are identified in the orthorectified image and measured.  The image coordinates are compared to the known positions of these points and the radial differences for each point computed.  A radial rmse value is then calculated for the DOQQ. 
					Note:  Adjacent DOQQ's, when displayed together in a common planimetric coordinate system, may exhibit positional discrepancies across common DOQQ boundaries. Linear features, such as streets, may be offset between images.  However, these edge mismatches still conform to NMAS positional horizontal accuracy requirements.
				</horizpar>
				<qhorizpa>
					<horizpav>2.69 meters</horizpav>
					<horizpae>Federal Geographic Data Committee, 1998, Geospatial Positioning Accuracy Standard, Part 3, National Standard for Spatial Data Accuracy, FGDC-STD-007.3-1998</horizpae>
				</qhorizpa>
			</horizpa>
		</posacc>
		<lineage>
			<srcinfo>
				<srccite>
					<citeinfo>
						<origin>Photo Science, Inc.</origin>
						<pubdate>2005</pubdate>
						<title>Aerial Photography -- frame: DO023-015.tif, DO024-015.tif, DO023-014.tif, DO024-014.tif, DO023-013.tif, DO024-013.tif, DO024-012.tif, DO023-012.tif</title>
						<geoform>remote-sensing image</geoform>
					</citeinfo>
				</srccite>
				<srcscale>50000</srcscale>
				<typesrc>DMC Imagery</typesrc>
				<srctime>
					<timeinfo>
						<rngdates><begdate>20051015</begdate><enddate>20051118</enddate></rngdates></timeinfo>
					<srccurr>ground condition</srccurr>
				</srctime>
				<srccitea>PHOTO</srccitea>
				<srccontr>DMC Imagery Flown at 25,000 feet above average ground elevation. Provides the imagery for the digital orthoimage.</srccontr>
			</srcinfo>
			<srcinfo>
				<srccite>
					<citeinfo>
						<origin>U.S. Geological Survey</origin>
						<pubdate>Unknown</pubdate>
						<title>Redfish Point, LA 7.5-minute USGS Digital Elevation Model</title>
						<geoform>gridded digital data</geoform>
					</citeinfo>
				</srccite>
				<typesrc>digital file</typesrc>
				<srctime>
					<timeinfo>
						<sngdate>
							<caldate>1989</caldate>
						</sngdate>
					</timeinfo>
					<srccurr>ground condition</srccurr>
				</srctime>
				<srccitea>DEM</srccitea>
				<srccontr>USGS format elevation data covering a 7.5- x 7.5-minute quadrangle in extent.  Used to provide ground elevations for orthorectification process.</srccontr>
			</srcinfo>
			<srcinfo>
				<srccite>
					<citeinfo>
						<origin>Photo Science, Inc.</origin>
						<pubdate>Unpublished Material</pubdate>
						<title>Airborne GPS</title>
					</citeinfo>
				</srccite>
				<typesrc>disc</typesrc>
				<srctime>
					<timeinfo>
						<rngdates><begdate>20051015</begdate><enddate>20051118</enddate></rngdates></timeinfo>
					<srccurr>ground condition</srccurr>
				</srctime>
				<srccitea>ABGPS</srccitea>
				<srccontr>Airborne GPS positions were computed by Photo Science, Inc. and used as control in the aerotriangulation process.  Ground checkpoints were provided by USGS and used to verify the accuracy of the airborne GPS.</srccontr>
			</srcinfo>
			<srcinfo>
				<srccite>
					<citeinfo>
						<origin>Photo Science, Inc.</origin>
						<pubdate>Unpublished Material</pubdate>
						<title>Aerotriangulation</title>
					</citeinfo>
				</srccite>
				<typesrc>disc</typesrc>
				<srctime>
					<timeinfo>
						<rngdates><begdate>20051015</begdate><enddate>20051118</enddate></rngdates></timeinfo>
					<srccurr>ground condition</srccurr>
				</srctime>
				<srccitea>ATCONTROL</srccitea>
				<srccontr>Aerotriangulation provides the exterior orientation parameters ( X, Y, Z, omega, phi, kappa) for input to the orthorectification process.</srccontr>
			</srcinfo>
			<procstep>
				<procdesc>The rectification process requires, as input, a digital elevation model (DEM) gridded to user-specified bounds, a digital image file (PHOTO), and external orientation parameters for the aerial photograph which are typically derived from aerotriangulation (ATCONTROL).

The DMC images, ABGPS data, ground check point data, and camera calibration data were used as inputs to the aerotriangulaton process.  ISAT 04.05 was used to perform block adjustments and generate exterior orientation parameters for each photo.  The external orientation parameters were used to provide the geospatial control each photograph during orthorectification.  Vertical control for the orthorectification process was obtained from existing USGS Digitial Elevation Models (DEM). During the orthorectification process, elevation data were extracted and resampled to meet user-specified intervals and bounds.

The orthorectified imagery is resampled to a 1-meter ground resolution with a ground extent of 3.75 minutes in latitude and in longitude.  An overedge of 300 meters beyond the extreme primary and secondary corner ticks was included in the DOQQ.  Quarterquad corner ticks, representing both NAD83 and NAD27 horizontal datums are burned into the DOQQ image.  An easily viewable ASCII text header is added to the DOQQ.  This header is padded to the same length as a line of image data.  The header contains information on structure, display, georefencing, and production information.  Images were written out using a 24-bit (RGB) BIP structure and then converted to GEOTIFF format using doq2tif.

Orthoproduction was performed using the Intergraph Ortho Pro 4.4.18. Seamlines were Auto Generated and tone balanced between frames prior to cutting out into the DOQQ's.

All orthoimages are individually inspected for content, misalignments along mosaic seamlines, and void areas.  Source information was collected and verified manually during the production process.</procdesc>
				<procdate>20060206</procdate>
			</procstep>
		</lineage>
	</dataqual>
	<spdoinfo>
		<direct>Raster</direct>
		<rastinfo>
			<rasttype>pixel</rasttype>
				<rowcount>7600</rowcount>
				<colcount>6716</colcount>
		</rastinfo>
	</spdoinfo>
	<spref>
		<horizsys>
			<planar>
				<gridsys>
					<gridsysn>Universal Transverse Mercator</gridsysn>
					<utm>
						<utmzone>15</utmzone>
						<transmer>
							<sfctrmer>0.9996</sfctrmer>
							<longcm>-87.0000</longcm>
							<latprjo>0.0</latprjo>
							<feast>500000.0</feast>
							<fnorth>0.0</fnorth>
						</transmer>
					</utm>
				</gridsys>
				<planci>
					<plance>row and column</plance>
					<coordrep>
						<absres>1.0</absres>
						<ordres>1.0</ordres>
					</coordrep>
					<plandu>meters</plandu>
				</planci>
			</planar>
			<geodetic>
				<horizdn>North American Datum of 1983</horizdn>
				<ellips>Geodetic Reference System 80</ellips>
				<semiaxis>6378137</semiaxis>
				<denflat>298.2572221</denflat>
			</geodetic>
		</horizsys>
	</spref>
	<eainfo>
		<overview>
			<eaover>Color Infra-red orthoimagery is organized in three color bands or channels which represent the near-infrared, red, and green (CIR) portions of the spectrum.  Each image pixel is assigned a triplet of numeric values, one for each color band.  Numeric values range from 0 to 255.   Areas where data is incomplete due to lack of full image coverage are represented with the numeric value of 0 or 255.</eaover>
			<eadetcit>U.S. Department of the Interior, U.S. Geological Survey, 1996, Standards for Digital Orthophotos: Reston, VA.</eadetcit>
		</overview>
	</eainfo>
	<distinfo>
    <distrib>
      <cntinfo>
        <cntorgp>
          <cntorg>U.S. Geological Survey, National Wetlands Research</cntorg>
        </cntorgp>
        <cntaddr>
          <addrtype>mailing and physical address</addrtype>
          <address>700 Cajundome Blvd</address>
          <city>Lafayette</city>
          <state>LA</state>
          <postal>70506</postal>
          <country>US</country>
        </cntaddr>
        <cntvoice>337 266-8500</cntvoice>
        <cntfax>337 266-8513</cntfax>
        <hours>Monday through Friday 8:00 AM to 4:00 PM (Central Time)</hours>
        <cntpos>Database Administrator</cntpos>
      </cntinfo>
    </distrib>
    <resdesc>DOQQ</resdesc>
    <distliab>Although these data have been processed successfully on a computer system at the U.S. Geological Survey, no warranty expressed or implied is made regarding the accuracy or utility of the data on any other system or for general or scientific purposes, nor shall the act of distribution constitute any such warranty. This disclaimer applies both to individual use of the data and aggregate use with other data.  It is strongly recommended that these data are directly acquired from a U.S. Geological Survey server, and not indirectly through other sources which may have changed the data in some way.  It is also strongly recommended that careful attention be paid to the contents of the metadata file associated with these data.  The U.S. Geological Survey shall not be held liable for improper or incorrect use of the data described and/or contained herein.
    </distliab>
  </distinfo>
  <metainfo>
    <metd>20060206</metd>
    <metc>
      <cntinfo>
        <cntorgp>
          <cntorg>U.S. Geological Survey</cntorg>
        </cntorgp>
        <cntaddr>
          <addrtype>mailing and physical address</addrtype>
          <address>700 Cajundome Blvd</address>
          <city>Lafayette</city>
          <state>LA </state>
          <postal>70506</postal>
          <country>USA</country>
        </cntaddr>
        <cntvoice>337 266-8500</cntvoice>
        <cntfax>337 266-8513</cntfax>
        <cntpos>Metadata specialist</cntpos>
      </cntinfo>
    </metc>
    <metstdn>FGDC Content Standard for Digital Geospatial Metadata</metstdn>
    <metstdv>FGDC-STD-001-1998</metstdv>
    <metac>None</metac>
    <metuc>Acknowledgement of NWRC, CWPPRA Task Force, and LA DEQ as a metadata source would be appreciate when using portions of the metadata to generated a new record for slightly altered data (such as reprojection).</metuc>
  </metainfo>
</metadata>
